Workbook

Sheet สรุปการคำนวณ
AC1: แบบฟอร์ม 1.5(1)
A2: โปรแกรมการคำนวณคาร์บอนฟุตพริ้นท์พัฒนาโดย องค์การบริหารจัดการก๊าซเรือนกระจก (องค์การมหาชน) หรือ อบก.
A3: ขอบเขตการดำเนินงาน | B3: รายการ | C3: EF | D3: หน่วย | E3: หน่วย การเก็บข้อมูล | F3: เดือน / ประจำปี ............................... | AE3: หน่วย
F4: ม.ค. | H4: ก.พ. | J4: มี.ค. | L4: เม.ย. | N4: พ.ค. | P4: มิ.ย. | R4: ก.ค. | T4: ส.ค. | V4: ก.ย. | X4: ต.ค. | Z4: พ.ย. | AB4: ธ.ค. | AD4: รวม
F5: ปริมาณ | G5: CF | H5: ปริมาณ | I5: CF | J5: ปริมาณ | K5: CF | L5: ปริมาณ | M5: CF | N5: ปริมาณ | O5: CF | P5: ปริมาณ | Q5: CF | R5: ปริมาณ | S5: CF | T5: ปริมาณ | U5: CF | V5: ปริมาณ | W5: CF | X5: ปริมาณ | Y5: CF | Z5: ปริมาณ | AA5: CF | AB5: ปริมาณ | AC5: CF
A6: ประเภท 1 | B6: 1. การเผาไหม้แบบอยู่กับที่ (Stationary Combustion)
B7: การใช้น้ำมันสำหรับงานอาคาร
B8: Diesel (Generator) | C8: 2.708 | D8: kg CO2e/ลิตร | E8: ลิตร | G8: =F8*$C$8 -> 0 | I8: =H8*$C$8 -> 0 | K8: =J8*$C$8 -> 0 | M8: =L8*$C$8 -> 0 | O8: =N8*$C$8 -> 0 | Q8: =P8*$C$8 -> 0 | S8: =R8*$C$8 -> 0 | U8: =T8*$C$8 -> 0 | W8: =V8*$C$8 -> 0 | Y8: =X8*$C$8 -> 0 | AA8: =Z8*$C$8 -> 0 | AC8: =AB8*$C$8 -> 0 | AD8: =S8+U8+W8+Y8+AA8+AC8 -> 0 | AE8: tCO2e
B9: Diesel (Fire pump) | C9: 2.708 | D9: kg CO2e/ลิตร | E9: ลิตร | G9: =F9*$C$8 -> 0 | I9: =H9*$C$8 -> 0 | K9: =J9*$C$8 -> 0 | M9: =L9*$C$8 -> 0 | O9: =N9*$C$8 -> 0 | Q9: =P9*$C$8 -> 0 | S9: =R9*$C$8 -> 0 | U9: =T9*$C$8 -> 0 | W9: =V9*$C$8 -> 0 | Y9: =X9*$C$8 -> 0 | AA9: =Z9*$C$8 -> 0 | AC9: =AB9*$C$8 -> 0 | AD9: =S9+U9+W9+Y9+AA9+AC9 -> 0 | AE9: tCO2e
B10: 2. การเผาไหม้แบบเคลื่อนที่ (Mobile Combustion)
B11: การใช้น้ำมันสำหรับการเดินทาง (รถตู้ รถมอเตอร์ไซค์)
B12: น้ำมัน Diesel | C12: 2.7446 | D12: kg CO2e/ลิตร | E12: ลิตร | G12: =F12*$C$8 -> 0 | I12: =H12*$C$8 -> 0 | K12: =J12*$C$8 -> 0 | M12: =L12*$C$8 -> 0 | O12: =N12*$C$8 -> 0 | Q12: =P12*$C$8 -> 0 | S12: =R12*$C$8 -> 0 | U12: =T12*$C$8 -> 0 | W12: =V12*$C$8 -> 0 | Y12: =X12*$C$8 -> 0 | AA12: =Z12*$C$8 -> 0 | AC12: =AB12*$C$8 -> 0 | AD12: =S12+U12+W12+Y12+AA12+AC12 -> 0 | AE12: tCO2e
B13: น้ำมัน Gasohol 91, E20, E85 | C13: 2.2376 | D13: kg CO2e/ลิตร | E13: ลิตร | G13: =F13*$C$8 -> 0 | I13: =H13*$C$8 -> 0 | K13: =J13*$C$8 -> 0 | M13: =L13*$C$8 -> 0 | O13: =N13*$C$8 -> 0 | Q13: =P13*$C$8 -> 0 | S13: =R13*$C$8 -> 0 | U13: =T13*$C$8 -> 0 | W13: =V13*$C$8 -> 0 | Y13: =X13*$C$8 -> 0 | AA13: =Z13*$C$8 -> 0 | AC13: =AB13*$C$8 -> 0 | AD13: =S13+U13+W13+Y13+AA13+AC13 -> 0 | AE13: tCO2e
B14: น้ำมัน Gasohol 95 | C14: 2.2376 | D14: kg CO2e/ลิตร | E14: ลิตร | G14: =F14*$C$8 -> 0 | I14: =H14*$C$8 -> 0 | K14: =J14*$C$8 -> 0 | M14: =L14*$C$8 -> 0 | O14: =N14*$C$8 -> 0 | Q14: =P14*$C$8 -> 0 | S14: =R14*$C$8 -> 0 | U14: =T14*$C$8 -> 0 | W14: =V14*$C$8 -> 0 | Y14: =X14*$C$8 -> 0 | AA14: =Z14*$C$8 -> 0 | AC14: =AB14*$C$8 -> 0 | AD14: =S14+U14+W14+Y14+AA14+AC14 -> 0 | AE14: tCO2e
B15: 3. การใช้สารดับเพลิง (CO2) | C15: 1 | D15: kg CO2e/kgCO2 | E15: kg | G15: =F15*$C$8 -> 0 | I15: =H15*$C$8 -> 0 | K15: =J15*$C$8 -> 0 | M15: =L15*$C$8 -> 0 | O15: =N15*$C$8 -> 0 | Q15: =P15*$C$8 -> 0 | S15: =R15*$C$8 -> 0 | U15: =T15*$C$8 -> 0 | W15: =V15*$C$8 -> 0 | Y15: =X15*$C$8 -> 0 | AA15: =Z15*$C$8 -> 0 | AC15: =AB15*$C$8 -> 0 | AD15: =S15+U15+W15+Y15+AA15+AC15 -> 0 | AE15: tCO2e
B16: 4. การปล่อยสารมีเทนจากระบบ septic tank | C16: 25 | D16: kg CO2e/kgH4 | E16: kgCH4 | F16: ='CH4จากระบบ septic tank'!$C$4 -> 0 | G16: =F16*$C$8 -> 0 | H16: ='CH4จากระบบ septic tank'!$D$4 -> 0 | I16: =H16*$C$8 -> 0 | J16: ='CH4จากระบบ septic tank'!$E$4 -> 0 | K16: =J16*$C$8 -> 0 | L16: ='CH4จากระบบ septic tank'!$F$4 -> 0 | M16: =L16*$C$8 -> 0 | N16: ='CH4จากระบบ septic tank'!$G$4 -> 0 | O16: =N16*$C$8 -> 0 | P16: ='CH4จากระบบ septic tank'!$H$4 -> 0 | Q16: =P16*$C$8 -> 0 | R16: ='CH4จากระบบ septic tank'!$I$4 -> 0 | S16: =R16*$C$8 -> 0 | T16: ='CH4จากระบบ septic tank'!$J$4 -> 0 | U16: =T16*$C$8 -> 0 | V16: ='CH4จากระบบ septic tank'!$K$4 -> 0 | W16: =V16*$C$8 -> 0 | X16: ='CH4จากระบบ septic tank'!$L$4 -> 0 | Y16: =X16*$C$8 -> 0 | Z16: ='CH4จากระบบ septic tank'!$M$4 -> 0 | AA16: =Z16*$C$8 -> 0 | AB16: ='CH4จากระบบ septic tank'!$N$4 -> 0 | AC16: =AB16*$C$8 -> 0 | AD16: =S16+U16+W16+Y16+AA16+AC16 -> 0 | AE16: tCO2e
B17: 5. การปล่อยสารมีเทนจากบ่อบำบัดน้ำเสียแบบไม่เติมอากาศ | C17: 25 | D17: kg CO2e/kgCH4 | E17: kgCH4 | F17: =CH4จากบ่อบำบัดน้ำเสีย!$B$13 -> 0 | G17: =F17*$C$8 -> 0 | H17: =CH4จากบ่อบำบัดน้ำเสีย!$C$13 -> 0 | I17: =H17*$C$8 -> 0 | J17: =CH4จากบ่อบำบัดน้ำเสีย!$D$13 -> 0 | K17: =J17*$C$8 -> 0 | L17: =CH4จากบ่อบำบัดน้ำเสีย!$E$13 -> 0 | M17: =L17*$C$8 -> 0 | N17: =CH4จากบ่อบำบัดน้ำเสีย!$F$13 -> 0 | O17: =N17*$C$8 -> 0 | P17: =CH4จากบ่อบำบัดน้ำเสีย!$G$13 -> 0 | Q17: =P17*$C$8 -> 0 | R17: =CH4จากบ่อบำบัดน้ำเสีย!$H$13 -> 0 | S17: =R17*$C$8 -> 0 | T17: =CH4จากบ่อบำบัดน้ำเสีย!$I$13 -> 0 | U17: =T17*$C$8 -> 0 | V17: =CH4จากบ่อบำบัดน้ำเสีย!$J$13 -> 0 | W17: =V17*$C$8 -> 0 | X17: =CH4จากบ่อบำบัดน้ำเสีย!$K$13 -> 0 | Y17: =X17*$C$8 -> 0 | Z17: =CH4จากบ่อบำบัดน้ำเสีย!$L$13 -> 0 | AA17: =Z17*$C$8 -> 0 | AB17: =CH4จากบ่อบำบัดน้ำเสีย!$M$13 -> 0 | AC17: =AB17*$C$8 -> 0 | AD17: =S17+U17+W17+Y17+AA17+AC17 -> 0 | AE17: tCO2e
B18: 6.การใช้สารทำความเย็นชนิด R134a | C18: 1430 | D18: kg CO2e/kgCH2FCF3 | E18: kgCH2FCF3 | G18: =F18*$C$8 -> 0 | I18: =H18*$C$8 -> 0 | K18: =J18*$C$8 -> 0 | M18: =L18*$C$8 -> 0 | O18: =N18*$C$8 -> 0 | Q18: =P18*$C$8 -> 0 | S18: =R18*$C$8 -> 0 | U18: =T18*$C$8 -> 0 | W18: =V18*$C$8 -> 0 | Y18: =X18*$C$8 -> 0 | AA18: =Z18*$C$8 -> 0 | AC18: =AB18*$C$8 -> 0 | AD18: =S18+U18+W18+Y18+AA18+AC18 -> 0 | AE18: tCO2e
A19: ประเภท 2 | B19: การใช้พลังงานไฟฟ้า | C19: 0.5821 | D19: kg CO2e/kWh | E19: kWh | G19: =F19*$C$8 -> 0 | I19: =H19*$C$8 -> 0 | K19: =J19*$C$8 -> 0 | M19: =L19*$C$8 -> 0 | O19: =N19*$C$8 -> 0 | Q19: =P19*$C$8 -> 0 | S19: =R19*$C$8 -> 0 | U19: =T19*$C$8 -> 0 | W19: =V19*$C$8 -> 0 | Y19: =X19*$C$8 -> 0 | AA19: =Z19*$C$8 -> 0 | AC19: =AB19*$C$8 -> 0 | AD19: =S19+U19+W19+Y19+AA19+AC19 -> 0 | AE19: tCO2e
A20: ประเภท 3 | B20: การใช้กระดาษ A4 และ A3 (สีขาว) | C20: 1.14 | D20: kg CO2e/kg | E20: kg | G20: =F20*$C$8 -> 0 | I20: =H20*$C$8 -> 0 | K20: =J20*$C$8 -> 0 | M20: =L20*$C$8 -> 0 | O20: =N20*$C$8 -> 0 | Q20: =P20*$C$8 -> 0 | S20: =R20*$C$8 -> 0 | U20: =T20*$C$8 -> 0 | W20: =V20*$C$8 -> 0 | Y20: =X20*$C$8 -> 0 | AA20: =Z20*$C$8 -> 0 | AC20: =AB20*$C$8 -> 0 | AD20: =S20+U20+W20+Y20+AA20+AC20 -> 0 | AE20: tCO2e
B21: น้ำประปา-การประปานครหลวง | C21: 0.5081 | D21: kg CO2e/m3 | E21: m3 | G21: =F21*$C$8 -> 0 | I21: =H21*$C$8 -> 0 | K21: =J21*$C$8 -> 0 | M21: =L21*$C$8 -> 0 | O21: =N21*$C$8 -> 0 | Q21: =P21*$C$8 -> 0 | S21: =R21*$C$8 -> 0 | U21: =T21*$C$8 -> 0 | W21: =V21*$C$8 -> 0 | Y21: =X21*$C$8 -> 0 | AA21: =Z21*$C$8 -> 0 | AC21: =AB21*$C$8 -> 0 | AD21: =S21+U21+W21+Y21+AA21+AC21 -> 0 | AE21: tCO2e
B22: น้ำประปา-การประปาส่วนภูมิภาค | C22: 0.7043 | D22: kg CO2e/m3 | E22: m3 | G22: =F22*$C$8 -> 0 | I22: =H22*$C$8 -> 0 | K22: =J22*$C$8 -> 0 | M22: =L22*$C$8 -> 0 | O22: =N22*$C$8 -> 0 | Q22: =P22*$C$8 -> 0 | S22: =R22*$C$8 -> 0 | U22: =T22*$C$8 -> 0 | W22: =V22*$C$8 -> 0 | Y22: =X22*$C$8 -> 0 | AA22: =Z22*$C$8 -> 0 | AC22: =AB22*$C$8 -> 0 | AD22: =S22+U22+W22+Y22+AA22+AC22 -> 0 | AE22: tCO2e
B23: ขยะของเสีย (ฝังกลบ) | C23: 2.32 | D23: kg CO2e/kg | E23: kg | G23: =F23*$C$8 -> 0 | I23: =H23*$C$8 -> 0 | K23: =J23*$C$8 -> 0 | M23: =L23*$C$8 -> 0 | O23: =N23*$C$8 -> 0 | Q23: =P23*$C$8 -> 0 | S23: =R23*$C$8 -> 0 | U23: =T23*$C$8 -> 0 | W23: =V23*$C$8 -> 0 | Y23: =X23*$C$8 -> 0 | AA23: =Z23*$C$8 -> 0 | AC23: =AB23*$C$8 -> 0 | AD23: =S23+U23+W23+Y23+AA23+AC23 -> 0 | AE23: tCO2e
B25: ประจำปี........... (ม.ค.-ธ.ค.)
B26: ขอบเขต ดำเนินงาน | C26: GHG | D26: % | E26: หน่วย
B27: ประเภท 1 | C27: =(SUM(AE8:AE18))/1000 -> 0 | D27: =(C27*100)/$C$30 -> #DIV/0! | E27: tCO2e
B28: ประเภท 2 | C28: =$AD$19/1000 -> 0 | D28: =(C28*100)/$C$30 -> #DIV/0! | E28: tCO2e
B29: ประเภท 3 | C29: =SUM(AE20:AE23)/1000 -> 0 | D29: =(C29*100)/$C$30 -> #DIV/0! | E29: tCO2e
B30: รวม | C30: =SUM(C27:C29) -> 0 | D30: =(C30*100)/$C$30 -> #DIV/0! | E30: tCO2e

Sheet CH4จากระบบ septic tank
A1: การคำนวณ CH4 จาก Septic tank | B1: ข้อมูล | C1: Jan | D1: Feb | E1: Mar | F1: Apr | G1: May | H1: Jun | I1: Jul | J1: Aug | K1: Sep | L1: Oct | M1: Nov | N1: Dec | O1: Total | Q1: ค่า fix ห้ามแก้
B2: จำนวนวันเปิดบริการ/ทำการ | O2: =SUM(C2:N2) -> 0 | Q2: =D23*E23*F23*H23*I23 -> 0.012 | R2: (มาจากแถวที่ 23)
B3: จำนวนพนักงานองค์กร | O3: =SUM(C3:N3) -> 0
B4: CH4 Emission | C4: =C2*C3*$Q$2 -> 0 | D4: =D2*D3*$Q$2 -> 0 | E4: =E2*E3*$Q$2 -> 0 | F4: =F2*F3*$Q$2 -> 0 | G4: =G2*G3*$Q$2 -> 0 | H4: =H2*H3*$Q$2 -> 0 | I4: =I2*I3*$Q$2 -> 0 | J4: =J2*J3*$Q$2 -> 0 | ... N4: =N2*N3*$Q$2 -> 0 | O4: =SUM(C4:N4) -> 0
B5: หมายเหตุ - การปล่อยก๊าซเรือนกระจกจากระบบ septic tank คำนวณเฉพาะประชากรพนักงานขององค์กรเท่านั้น
A9: หมายหตุ
A10: การเลือกค่า T (degree of utilization of treatment/discharge) เนื่องจากมีระบบเดียว เนื่องจากมีระบบเดียว ใช้ระบบ Septic Tank เพราะฉะนั้น จึงใช้ T = 1
A12: การเลือกค่า U (fraction of population in income group in inventory year) เนื่องจากสัดส่วนพนักงานมีแบบเดียว เพราะฉะนั้น จึงใช้ U = 1
A14: EF = 0.6 kg CH4 / kg BOD x 0.5 = 0.3 kg CH4 / kg BOD
D22: Ui | E22: Tij | F22: Efj | G22: จำนวนพนักงานเฉลี่ย | H22: TOW BOD | I22: 0.001 | J22: จำนวนวัน ทำงาน
A23: CH4 Emission | B23: kg | C23: =D23*E23*F23*H23*I23*J23 -> 0 | D23: 1 | E23: 1 | F23: 0.3 | G23: =O3 -> 0 | H23: 40 | I23: =I22 -> 0.001 | J23: =O2 -> 0
D29: =D23*E23*F23*G23*H23*J23 -> 0

Sheet CH4จากบ่อบำบัดน้ำเสีย
A1: สมมุติฐานถังบำบัดน้ำเสีย จากห้องน้ำแบบไม่เติมอากาศ
C2: ม.ค. | D2: ก.พ. | E2: มี.ค. | F2: เม.ย. | G2: พ.ค. | H2: มิ.ย. | I2: ก.ค. | J2: ส.ค. | K2: ก.ย. | L2: ต.ค. | M2: พ.ย. | N2: ธ.ค. | O2: รวม
A3: ปริมาณน้ำใช้ในรอบปี m3
A4: ปริมาณน้ำเสียคิดเป็น 80% m3 | C4: =C3*0.8 -> 0 | D4: =D3*0.8 -> 0 | E4: =E3*0.8 -> 0 | F4: =F3*0.8 -> 0 | G4: =G3*0.8 -> 0 | H4: =H3*0.8 -> 0 | I4: =I3*0.8 -> 0 | J4: =J3*0.8 -> 0 | ... O4: =O3*0.8 -> 0
A5: เนื่องจากไม่มีข้อมูลค่า COD ของน้ำเสียขององค์กร จึงใช้ข้อมูลสมมติฐานของค่า COD สูงสุดเท่ากับ 120 mg/l (ค่ามาตรฐานน้ำทิ้ง)
A7: สมการการคำนวณปริมาณมีเทนจากระบบ แบบไม่เติมอากาศ = 0.2 × [(Wi × CODin)-S]
A8: Wi = ปริมาณน้ำเสีย (ลบ.ม.)
A9: COD = ความต้องการออกซิเจนทางเคมีของน้ำเสียขาเข้า kgCODin/L
A10: S = สารอินทรีย์ที่ถูกกำจัดในรูปของสลัดจ์ (กิโลกรัม COD)
A11: ปีคำนวณ ................ | B11: ม.ค. | C11: ก.พ. | D11: มี.ค. | E11: เม.ย. | F11: พ.ค. | G11: มิ.ย. | H11: ก.ค. | I11: ส.ค. | J11: ก.ย. | K11: ต.ค. | L11: พ.ย. | M11: ธ.ค. | N11: รวม
A12: ปริมาณน้ำเสียเฉลี่ย (ลบ.ม) | B12: =C4 -> 0 | C12: =D4 -> 0 | D12: =E4 -> 0 | E12: =F4 -> 0 | F12: =G4 -> 0 | G12: =H4 -> 0 | H12: =I4 -> 0 | I12: =J4 -> 0 | ... N12: =O4 -> 0
A13: CH4 (kgCH4) | B13: =0.2*B12*0.12 -> 0 | C13: =0.2*C12*0.12 -> 0 | D13: =0.2*D12*0.12 -> 0 | E13: =0.2*E12*0.12 -> 0 | F13: =0.2*F12*0.12 -> 0 | G13: =0.2*G12*0.12 -> 0 | H13: =0.2*H12*0.12 -> 0 | I13: =0.2*I12*0.12 -> 0 | ... N13: =0.2*N12*0.12 -> 0
